BEGIN:VCALENDAR
VERSION:2.0
PRODID:-//gefas - ECPv6.15.17.1//NONSGML v1.0//EN
CALSCALE:GREGORIAN
METHOD:PUBLISH
X-WR-CALNAME:gefas
X-ORIGINAL-URL:https://www.gefas-augsburg.de
X-WR-CALDESC:Veranstaltungen für gefas
REFRESH-INTERVAL;VALUE=DURATION:PT1H
X-Robots-Tag:noindex
X-PUBLISHED-TTL:PT1H
BEGIN:VTIMEZONE
TZID:Europe/Berlin
BEGIN:DAYLIGHT
TZOFFSETFROM:+0100
TZOFFSETTO:+0200
TZNAME:CEST
DTSTART:20220327T010000
END:DAYLIGHT
BEGIN:STANDARD
TZOFFSETFROM:+0200
TZOFFSETTO:+0100
TZNAME:CET
DTSTART:20221030T010000
END:STANDARD
BEGIN:DAYLIGHT
TZOFFSETFROM:+0100
TZOFFSETTO:+0200
TZNAME:CEST
DTSTART:20230326T010000
END:DAYLIGHT
BEGIN:STANDARD
TZOFFSETFROM:+0200
TZOFFSETTO:+0100
TZNAME:CET
DTSTART:20231029T010000
END:STANDARD
BEGIN:DAYLIGHT
TZOFFSETFROM:+0100
TZOFFSETTO:+0200
TZNAME:CEST
DTSTART:20240331T010000
END:DAYLIGHT
BEGIN:STANDARD
TZOFFSETFROM:+0200
TZOFFSETTO:+0100
TZNAME:CET
DTSTART:20241027T010000
END:STANDARD
END:VTIMEZONE
BEGIN:VEVENT
DTSTART;TZID=Europe/Berlin:20230717T190000
DTEND;TZID=Europe/Berlin:20230717T200000
DTSTAMP:20260421T142906
CREATED:20230724T201332Z
LAST-MODIFIED:20230724T201332Z
UID:3068-1689620400-1689624000@www.gefas-augsburg.de
SUMMARY:Zellgesundheit
DESCRIPTION:Freut euch auf einen unterhaltsamen und informativen Abend mit unserer Referentin Anja Maier\, Ernährungswissenschaftlerin \nDer Einfluss von Omega 3 auf unsere Gesundheit
URL:https://www.gefas-augsburg.de/veranstaltung/zellgesundheit/
LOCATION:Biohotel Bayer. Wirt\, Neuburger Straße 122\, Augsburg\, Deutschland
CATEGORIES:Seminar,Veranstaltung
ATTACH;FMTTYPE=image/jpeg:https://www.gefas-augsburg.de/wp-content/uploads/2023/07/Screenshot-2023-07-16-150205.jpg
END:VEVENT
END:VCALENDAR