BEGIN:VCALENDAR
VERSION:2.0
PRODID:-//gefas - ECPv6.15.20//NONSGML v1.0//EN
CALSCALE:GREGORIAN
METHOD:PUBLISH
X-ORIGINAL-URL:https://www.gefas-augsburg.de
X-WR-CALDESC:Veranstaltungen für gefas
REFRESH-INTERVAL;VALUE=DURATION:PT1H
X-Robots-Tag:noindex
X-PUBLISHED-TTL:PT1H
BEGIN:VTIMEZONE
TZID:Europe/Berlin
BEGIN:DAYLIGHT
TZOFFSETFROM:+0100
TZOFFSETTO:+0200
TZNAME:CEST
DTSTART:20240331T010000
END:DAYLIGHT
BEGIN:STANDARD
TZOFFSETFROM:+0200
TZOFFSETTO:+0100
TZNAME:CET
DTSTART:20241027T010000
END:STANDARD
BEGIN:DAYLIGHT
TZOFFSETFROM:+0100
TZOFFSETTO:+0200
TZNAME:CEST
DTSTART:20250330T010000
END:DAYLIGHT
BEGIN:STANDARD
TZOFFSETFROM:+0200
TZOFFSETTO:+0100
TZNAME:CET
DTSTART:20251026T010000
END:STANDARD
BEGIN:DAYLIGHT
TZOFFSETFROM:+0100
TZOFFSETTO:+0200
TZNAME:CEST
DTSTART:20260329T010000
END:DAYLIGHT
BEGIN:STANDARD
TZOFFSETFROM:+0200
TZOFFSETTO:+0100
TZNAME:CET
DTSTART:20261025T010000
END:STANDARD
END:VTIMEZONE
BEGIN:VEVENT
DTSTART;TZID=Europe/Berlin:20251009T190000
DTEND;TZID=Europe/Berlin:20251009T203000
DTSTAMP:20260422T185140
CREATED:20250914T144018Z
LAST-MODIFIED:20250914T133632Z
UID:3994-1760036400-1760041800@www.gefas-augsburg.de
SUMMARY:Box on Tour: Entfalte dein POTENTIAL STABILITÄT und STÄRKE mit der BOX
DESCRIPTION:am 9. OKTOBER 2025 um 19:00 UHR im\nBIO HOTEL BAYRISCHER WIRT\nNeuburger Straße 122  86167 Augsburg \nEntfalte dein POTENTIAL STABILITÄT und STÄRKE mit der BOX \nEin kurzweiliger Abend über das Leben und seine Herausforderungen und wie wir besser damit umgehen und wie wir die Lebensgesetze für uns nutzen können – privat\, beruflich\, gesundheitlich – einfach in jedem Bereich unseres Lebens.\nAnmeldung erbeten\nDer Vortrag ist kostenfrei. \nmit Chef-Coach\nCHRISTIAN KEHRLE
URL:https://www.gefas-augsburg.de/veranstaltung/box-on-tour-entfalte-dein-potential-stabilitaet-und-staerke-mit-der-box/
LOCATION:Biohotel Bayer. Wirt\, Neuburger Straße 122\, Augsburg\, Deutschland
CATEGORIES:Demo,Seminar,Training,Veranstaltung,Vortrag
ATTACH;FMTTYPE=image/webp:https://www.gefas-augsburg.de/wp-content/uploads/2025/09/Vortrag_BOX_CKerle_251009.webp
END:VEVENT
END:VCALENDAR