BEGIN:VCALENDAR
VERSION:2.0
PRODID:-//gefas - ECPv6.15.17.1//NONSGML v1.0//EN
CALSCALE:GREGORIAN
METHOD:PUBLISH
X-WR-CALNAME:gefas
X-ORIGINAL-URL:https://www.gefas-augsburg.de
X-WR-CALDESC:Veranstaltungen für gefas
REFRESH-INTERVAL;VALUE=DURATION:PT1H
X-Robots-Tag:noindex
X-PUBLISHED-TTL:PT1H
BEGIN:VTIMEZONE
TZID:Europe/Berlin
BEGIN:DAYLIGHT
TZOFFSETFROM:+0100
TZOFFSETTO:+0200
TZNAME:CEST
DTSTART:20230326T010000
END:DAYLIGHT
BEGIN:STANDARD
TZOFFSETFROM:+0200
TZOFFSETTO:+0100
TZNAME:CET
DTSTART:20231029T010000
END:STANDARD
BEGIN:DAYLIGHT
TZOFFSETFROM:+0100
TZOFFSETTO:+0200
TZNAME:CEST
DTSTART:20240331T010000
END:DAYLIGHT
BEGIN:STANDARD
TZOFFSETFROM:+0200
TZOFFSETTO:+0100
TZNAME:CET
DTSTART:20241027T010000
END:STANDARD
BEGIN:DAYLIGHT
TZOFFSETFROM:+0100
TZOFFSETTO:+0200
TZNAME:CEST
DTSTART:20250330T010000
END:DAYLIGHT
BEGIN:STANDARD
TZOFFSETFROM:+0200
TZOFFSETTO:+0100
TZNAME:CET
DTSTART:20251026T010000
END:STANDARD
END:VTIMEZONE
BEGIN:VEVENT
DTSTART;TZID=Europe/Berlin:20240923T090000
DTEND;TZID=Europe/Berlin:20240924T170000
DTSTAMP:20260421T180425
CREATED:20240329T093502Z
LAST-MODIFIED:20240329T093502Z
UID:3541-1727082000-1727197200@www.gefas-augsburg.de
SUMMARY:Tools of The Trade – das Handwerkszeug (Three In One Concepts®)
DESCRIPTION:Warum Sie dies Seminar besuchen sollen?\nPersönliche Selbsterfahrung und Weiterentwicklung sind die meistgenannten Gründe\, warum sich Teilnehmer für unsere Kurse entscheiden. In den ersten drei Grundkursen erhalten Sie umfassende Fertigkeiten\, wie sie emotionalem Stress wirkungsvoll begegnen können.\n– Sie lernen den Muskeltest\n– Sie lernen wie Sie Ihre Selbstheilungskräfte aktivieren\n– Sie lernen wie Sie körperlich- geistiges- und seelisches Wohlbefinden erlangen\n– Sie lernenTechniken um Ursachen Ihrer Probleme zu finden und zu lösen\n– Sie lernen eine Altersrückerinnerung\n– Sie lernen einen kompletten Balanceablauf \nInhalt: \nDie Psychokursreihe beginnt mit \,\,Tools of the Trade”\nDieser zweitägige Kurs vermittelt die Grundlage der Arbeit von Three in One Concepts. Hier lernen Sie:\n• Das Biofeedback des Körpers kennen\, d. h. wie wirkt sich emotionaler Stress auf unseren Körper aus und wie können wir uns diese Erkenntnis zu Nutze machen\n• Das Verhaltensbarometer kennen\, eine geniale Landkarte\, wenn es darum geht herauszufinden\, wo wir im Moment emotional bzgl. Eines Themas stehen\n• Emotionale Stressablösung\, eine sehr sanfte und effektive Möglichkeit des Stressabbaus. \nAnmeldung: Per Mail kinesiologie@gmx.de oder telefonisch unter 08293-909255 \nKosten: 220\,00€ zuzüglich Skript
URL:https://www.gefas-augsburg.de/veranstaltung/begleitende-kinesiologin-dgak-dipl-ing-fh-gabriela-seifert-3-4/
LOCATION:Bonstetten\, Hasenbergstr. 8\, Bonstetten\, Bayern\, 86486\, Deutschland
CATEGORIES:Kinesiologie
ATTACH;FMTTYPE=image/png:https://www.gefas-augsburg.de/wp-content/uploads/2024/03/Gabriele-Seifert.png
ORGANIZER;CN="Gabriela Seifert":MAILTO:kinesiologie@gmx.de
END:VEVENT
END:VCALENDAR